Workbook
Name Slicer_Apimtis: #N/A
Name Slicer_DATASET_ID: #N/A
Name Slicer_DATASET_ID1: #N/A
Name Slicer_DATASET_ID2: #N/A
Name Slicer_DATASET_ID3: #N/A
Name Slicer_Dr_rusis: #N/A
Name Slicer_Veikla: #N/A
Name Slicer_Veiklos_teritorija: #N/A

Sheet Content
C2: Insurance Activity Results in Lithuania as of January - August, 2026
B4: Code | C4: Report | D4: Periodicity
B5: DSR1 | C5: Concluded insurance contracts, units | D5: Monthly
B6: DSR2 | C6: Insurance contracts in force, units | D6: Monthly
B7: DSR3 | C7: Insurance contracts cancelled, units | D7: Monthly
B8: DSR5 | C8: Insurance premiums, EUR | D8: Monthly
B9: DSR6 | C9: Single premiums, EUR | D9: Monthly
B10: DSR7 | C10: Insurance premiums with periodical payments, EUR | D10: Monthly
B11: DSR8 | C11: Annual premiums under new concluded contracts with the established a periodical payment of premiums, EUR | D11: Monthly
B12: DSR10 | C12: Claims paid for insurance losses, units | D12: Monthly
B13: DSR11 | C13: Payment of the investment component after the expiration of the insurance contract, units | D13: Monthly
B14: DSR12 | C14: Payment of the investment component after termination of the insurance contract, units | D14: Monthly
B15: DSR13 | C15: Partial payment of the investment component neither after termination nor at the end of the contract, units | D15: Monthly
... B20: DSR19 | C20: Payment of the investment component neither after termination nor at the end of the contract, EUR | D20: Monthly

Sheet Settings

Sheet DSR1
A1: Concluded insurance contracts, units | C1: Sudarytos draudimo sutartys, vnt.
A3: =C3 -> 2026-08-31 | B3: Data_men | C3: 2026-08-31
B5: Per ataskaitinį laikotarpį sudarytos draudimo sutartys, vnt. | D5: Agento_pavadinimas
A6: Business lines / Insurers | B6: Eil. nr. | C6: Draudimo grupės / Draudikai | D6: Allianz Lietuva gyvybės draudimas | E6: Artea Life Insurance | F6: ATRADIUS filialas | G6: Balcia Insurance filialas | H6: Baltijas Apdrosinasanas Nams filialas | I6: BTA Insurance Company filialas | J6: COFACE filialas | K6: Compensa Life VIG filialas | L6: Compensa VIG | M6: ERGO Insurance filialas | N6: ERGO Life Insurance | O6: Gjensidige | P6: If P&C Insurance (publ) filialas | Q6: If P&C Insurance filialas | R6: Lamantinas | S6: Lietuvos draudimas | T6: PZU Lietuva gyvybės draudimas | U6: SEB Life and Pension Baltic filialas | V6: Swedbank Life Insurance filialas | W6: Swedbank P&C Insurance filialas | X6: Vereinigte Hagelversicherung filialas VH Lietuva | Y6: All
A7: =IFERROR(VLOOKUP(C7,'LT-EN'!$A:$B,2,FALSE)," ") -> ALL | B7: 0 | C7: Visos | D7: 9437 | E7: 3864 | F7: 0 | G7: 197972 | H7: 22939 | I7: 967269 | J7: 199 | K7: 11057 | L7: 770260 | M7: 1134506 | N7: 4487 | O7: 386959 | P7: 0 | Q7: 250144 | R7: 22336 | S7: 1761657 | T7: 2951 | U7: 17830 | V7: 13841 | W7: 759626 | X7: 6877 | Y7: 6344211
A8: =IFERROR(VLOOKUP(C8,'LT-EN'!$A:$B,2,FALSE)," ") -> NON-LIFE INSURANCE | B8: 1 | C8: NE GYVYBĖS DRAUDIMAS | D8: 0 | E8: 0 | F8: 0 | G8: 197972 | H8: 22939 | I8: 967269 | J8: 199 | K8: 750 | L8: 770260 | M8: 1134506 | N8: 455 | O8: 386959 | P8: 0 | Q8: 250144 | R8: 22336 | S8: 1761657 | T8: 0 | U8: 0 | V8: 0 | W8: 759626 | X8: 6877 | Y8: 6281949
A9: =IFERROR(VLOOKUP(C9,'LT-EN'!$A:$B,2,FALSE)," ") -> 1. Medical expense insurance | B9: 2 | C9: 1. Medicininių išlaidų draudimas | D9: 0 | E9: 0 | F9: 0 | G9: 34786 | H9: 0 | I9: 116708 | J9: 0 | K9: 750 | L9: 50202 | M9: 89030 | N9: 455 | O9: 27109 | P9: 0 | Q9: 17990 | R9: 0 | S9: 79604 | T9: 0 | U9: 0 | V9: 0 | W9: 30908 | X9: 0 | Y9: 447542
A10: =IFERROR(VLOOKUP(C10,'LT-EN'!$A:$B,2,FALSE)," ") -> 1.1. Supplementary voluntary health insurance | B10: 3 | C10: 1.1. Papildomasis savanoriškasis sveikatos draudimas | D10: 0 | E10: 0 | F10: 0 | G10: 0 | H10: 0 | I10: 921 | J10: 0 | K10: 750 | L10: 1446 | M10: 0 | N10: 455 | O10: 413 | P10: 0 | Q10: 0 | R10: 0 | S10: 13346 | T10: 0 | U10: 0 | V10: 0 | W10: 0 | X10: 0 | Y10: 17331
A11: =IFERROR(VLOOKUP(C11,'LT-EN'!$A:$B,2,FALSE)," ") -> 1.1.1. Policyholders - legal persons | B11: 4 | C11: 1.1.1. Draudėjai - juridiniai asmenys | H11: 0 | I11: 627 | K11: 750 | L11: 1407 | N11: 366 | O11: 381 | Q11: 0 | S11: 1120 | Y11: 4651
A12: =IFERROR(VLOOKUP(C12,'LT-EN'!$A:$B,2,FALSE)," ") -> 1.1.2. Policyholders - natural persons | B12: 5 | C12: 1.1.2. Draudėjai - fiziniai asmenys | H12: 0 | I12: 294 | L12: 39 | N12: 89 | O12: 32 | Q12: 0 | S12: 12226 | Y12: 12680
A13: =IFERROR(VLOOKUP(C13,'LT-EN'!$A:$B,2,FALSE)," ") -> 1.2. Other | B13: 6 | C13: 1.2. Kita | D13: 0 | E13: 0 | F13: 0 | G13: 34786 | H13: 0 | I13: 115787 | J13: 0 | K13: 0 | L13: 48756 | M13: 89030 | N13: 0 | O13: 26696 | P13: 0 | Q13: 17990 | R13: 0 | S13: 66258 | T13: 0 | U13: 0 | V13: 0 | W13: 30908 | X13: 0 | Y13: 430211
A14: =IFERROR(VLOOKUP(C14,'LT-EN'!$A:$B,2,FALSE)," ") -> 1.2.1. Policyholders - legal persons | B14: 7 | C14: 1.2.1. Draudėjai - juridiniai asmenys | G14: 3265 | H14: 0 | I14: 29138 | L14: 413 | M14: 3308 | O14: 3433 | Q14: 877 | S14: 1277 | W14: 3 | Y14: 41714
A15: =IFERROR(VLOOKUP(C15,'LT-EN'!$A:$B,2,FALSE)," ") -> 1.2.2. Policyholders - natural persons | B15: 8 | C15: 1.2.2. Draudėjai - fiziniai asmenys | G15: 31521 | H15: 0 | I15: 86649 | L15: 48343 | M15: 85722 | O15: 23263 | Q15: 17113 | S15: 64981 | W15: 30905 | Y15: 388497
A16: =IFERROR(VLOOKUP(C16,'LT-EN'!$A:$B,2,FALSE)," ") -> 2. Income protection insurance | B16: 9 | C16: 2. Pajamų apsaugos draudimas | D16: 0 | E16: 0 | F16: 0 | G16: 10995 | H16: 0 | I16: 138304 | J16: 0 | K16: 0 | L16: 88201 | M16: 93162 | N16: 0 | O16: 34288 | P16: 0 | Q16: 29777 | R16: 0 | S16: 203494 | T16: 0 | U16: 0 | V16: 0 | W16: 72884 | X16: 0 | Y16: 671105
A17: =IFERROR(VLOOKUP(C17,'LT-EN'!$A:$B,2,FALSE)," ") -> 2.1. Policyholders - legal persons | B17: 10 | C17: 2.1. Draudėjai - juridiniai asmenys | G17: 1223 | H17: 0 | I17: 32724 | L17: 5227 | M17: 11094 | O17: 5271 | Q17: 12853 | S17: 16450 | U17: 0 | W17: 2 | Y17: 84844
A18: =IFERROR(VLOOKUP(C18,'LT-EN'!$A:$B,2,FALSE)," ") -> 2.2. Policyholders - natural persons | B18: 11 | C18: 2.2. Draudėjai - fiziniai asmenys | G18: 9772 | H18: 0 | I18: 105580 | L18: 82974 | M18: 82068 | O18: 29017 | Q18: 16924 | S18: 187044 | W18: 72882 | Y18: 586261
A19: =IFERROR(VLOOKUP(C19,'LT-EN'!$A:$B,2,FALSE)," ") -> 3. Workers' compensation insurance | B19: 12 | C19: 3. Nelaimingų atsitikimų darbe draudimas | H19: 0 | I19: 0 | L19: 0 | O19: 0 | Q19: 0 | S19: 0 | Y19: 0
A20: =IFERROR(VLOOKUP(C20,'LT-EN'!$A:$B,2,FALSE)," ") -> 4. Motor vehicle liability insurance | B20: 13 | C20: 4. Motorinių transporto priemonių valdytojų civilinės atsakomybės draudimas | D20: 0 | E20: 0 | F20: 0 | G20: 105303 | H20: 22939 | I20: 436288 | J20: 0 | K20: 0 | L20: 386193 | M20: 546265 | N20: 0 | O20: 202488 | P20: 0 | Q20: 123817 | R20: 0 | S20: 689319 | T20: 0 | U20: 0 | V20: 0 | W20: 149402 | X20: 0 | Y20: 2662014
A21: =IFERROR(VLOOKUP(C21,'LT-EN'!$A:$B,2,FALSE)," ") -> 4.1. Liability arising out of the use of motor vehicles operating on the land insurance | B21: 14 | C21: 4.1. Sausumos transporto priemonių valdytojų civilinės atsakomybės draudimas | D21: 0 | E21: 0 | F21: 0 | G21: 105303 | H21: 22939 | I21: 435622 | J21: 0 | K21: 0 | L21: 386193 | M21: 545435 | N21: 0 | O21: 202213 | P21: 0 | Q21: 123094 | R21: 0 | S21: 688562 | T21: 0 | U21: 0 | V21: 0 | W21: 149402 | X21: 0 | Y21: 2658763
A22: =IFERROR(VLOOKUP(C22,'LT-EN'!$A:$B,2,FALSE)," ") -> 4.1.1. Policyholders - legal persons | B22: 15 | C22: 4.1.1. Draudėjai - juridiniai asmenys | G22: 21171 | H22: 2 | I22: 90376 | L22: 64147 | M22: 85849 | O22: 34466 | Q22: 49351 | S22: 150366 | W22: 1906 | Y22: 497634
A23: =IFERROR(VLOOKUP(C23,'LT-EN'!$A:$B,2,FALSE)," ") -> 4.1.2. Policyholders - natural persons | B23: 16 | C23: 4.1.2. Draudėjai - fiziniai asmenys | G23: 84132 | H23: 22937 | I23: 345246 | L23: 322046 | M23: 459586 | O23: 167747 | Q23: 73743 | S23: 538196 | W23: 147496 | Y23: 2161129
A24: =IFERROR(VLOOKUP(C24,'LT-EN'!$A:$B,2,FALSE)," ") -> 4.2. Carrier third party liability (CMR) insurance | B24: 17 | C24: 4.2. Vežėjų civilinės atsakomybės draudimas | H24: 0 | I24: 657 | L24: 0 | M24: 830 | O24: 274 | Q24: 723 | S24: 746 | Y24: 3230
A25: =IFERROR(VLOOKUP(C25,'LT-EN'!$A:$B,2,FALSE)," ") -> 4.3. Liability arising out of use railway rolling stock insurance | B25: 18 | C25: 4.3. Geležinkelių transporto priemonių valdytojų civilinės atsakomybės draudimas | H25: 0 | I25: 9 | L25: 0 | O25: 1 | Q25: 0 | S25: 11 | Y25: 21
A26: =IFERROR(VLOOKUP(C26,'LT-EN'!$A:$B,2,FALSE)," ") -> 5. Other motor insurance | B26: 19 | C26: 5. Kitas transporto priemonių draudimas | D26: 0 | E26: 0 | F26: 0 | G26: 6488 | H26: 0 | I26: 45182 | J26: 0 | K26: 0 | L26: 65049 | M26: 82869 | N26: 0 | O26: 7634 | P26: 0 | Q26: 33906 | R26: 0 | S26: 144596 | T26: 0 | U26: 0 | V26: 0 | W26: 24869 | X26: 0 | Y26: 410593
A27: =IFERROR(VLOOKUP(C27,'LT-EN'!$A:$B,2,FALSE)," ") -> 5.1. Land vehicles other than railway rolling stock insurance | B27: 20 | C27: 5.1. Sausumos transporto priemonių, išskyrus geležinkelio transporto priemones, draudimas | D27: 0 | E27: 0 | F27: 0 | G27: 6488 | H27: 0 | I27: 45174 | J27: 0 | K27: 0 | L27: 65049 | M27: 82868 | N27: 0 | O27: 7634 | P27: 0 | Q27: 33906 | R27: 0 | S27: 144592 | T27: 0 | U27: 0 | V27: 0 | W27: 24869 | X27: 0 | Y27: 410580
A28: =IFERROR(VLOOKUP(C28,'LT-EN'!$A:$B,2,FALSE)," ") -> 5.1.1. Policyholders - legal persons | B28: 21 | C28: 5.1.1. Draudėjai - juridiniai asmenys | G28: 479 | H28: 0 | I28: 11554 | L28: 19932 | M28: 35376 | O28: 3515 | Q28: 15176 | S28: 57498 | W28: 2439 | Y28: 145969
A29: =IFERROR(VLOOKUP(C29,'LT-EN'!$A:$B,2,FALSE)," ") -> 5.1.2. Policyholders - natural persons | B29: 22 | C29: 5.1.2. Draudėjai - fiziniai asmenys | G29: 6009 | H29: 0 | I29: 33620 | L29: 45117 | M29: 47492 | O29: 4119 | Q29: 18730 | S29: 87094 | W29: 22430 | Y29: 264611
A30: =IFERROR(VLOOKUP(C30,'LT-EN'!$A:$B,2,FALSE)," ") -> 5.2. Railway rolling stock insurance | B30: 23 | C30: 5.2. Geležinkelio transporto priemonių draudimas | H30: 0 | I30: 8 | L30: 0 | M30: 1 | O30: 0 | Q30: 0 | S30: 4 | Y30: 13
A31: =IFERROR(VLOOKUP(C31,'LT-EN'!$A:$B,2,FALSE)," ") -> 6. Marine, aviation and transport insurance | B31: 24 | C31: 6. Jūrų, oro ir sausumos transporto priemonių draudimas | D31: 0 | E31: 0 | F31: 0 | G31: 0 | H31: 0 | I31: 855 | J31: 0 | K31: 0 | L31: 207 | M31: 961 | N31: 0 | O31: 48 | P31: 0 | Q31: 163 | R31: 0 | S31: 397 | T31: 0 | U31: 0 | V31: 0 | W31: 0 | X31: 0 | Y31: 2631
A32: =IFERROR(VLOOKUP(C32,'LT-EN'!$A:$B,2,FALSE)," ") -> 6.1. Liability arising out of use of ships (sea and internal waters) insurance | B32: 25 | C32: 6.1. Laivų (jūrų ir vidaus vandenų) valdytojų civilinės atsakomybės draudimas | H32: 0 | I32: 123 | L32: 0 | O32: 4 | Q32: 0 | S32: 74 | Y32: 201
A33: =IFERROR(VLOOKUP(C33,'LT-EN'!$A:$B,2,FALSE)," ") -> 6.2. Ships (sea and internal waters) insurance | B33: 26 | C33: 6.2. Laivų (jūrų ir vidaus vandenų) draudimas | H33: 0 | I33: 56 | L33: 0 | M33: 56 | O33: 3 | P33: 0 | Q33: 33 | S33: 88 | Y33: 236
A34: =IFERROR(VLOOKUP(C34,'LT-EN'!$A:$B,2,FALSE)," ") -> 6.3. Liability arising out of the use of aircraft insurance | B34: 27 | C34: 6.3. Skraidymo aparatų valdytojų civilinės atsakomybės draudimas | H34: 0 | I34: 403 | L34: 0 | O34: 0 | Q34: 11 | S34: 1 | Y34: 415
A35: =IFERROR(VLOOKUP(C35,'LT-EN'!$A:$B,2,FALSE)," ") -> 6.4. Aircraft insurance | B35: 28 | C35: 6.4. Skraidymo aparatų draudimas | H35: 0 | I35: 40 | L35: 0 | O35: 0 | Q35: 0 | S35: 1 | Y35: 41
A36: =IFERROR(VLOOKUP(C36,'LT-EN'!$A:$B,2,FALSE)," ") -> 6.5. Goods in transit insurance | B36: 29 | C36: 6.5. Vežamų krovinių draudimas | H36: 0 | I36: 233 | L36: 207 | M36: 905 | O36: 41 | P36: 0 | Q36: 119 | S36: 233 | Y36: 1738
A37: =IFERROR(VLOOKUP(C37,'LT-EN'!$A:$B,2,FALSE)," ") -> 7. Fire and other damage to property insurance | B37: 30 | C37: 7. Draudimas nuo gaisro ir kitos žalos, padarytos turtui | D37: 0 | E37: 0 | F37: 0 | G37: 14796 | H37: 0 | I37: 71756 | J37: 0 | K37: 0 | L37: 64106 | M37: 157875 | N37: 0 | O37: 35734 | P37: 0 | Q37: 27688 | R37: 0 | S37: 453441 | T37: 0 | U37: 0 | V37: 0 | W37: 201121 | X37: 6877 | Y37: 1033394
A38: =IFERROR(VLOOKUP(C38,'LT-EN'!$A:$B,2,FALSE)," ") -> 7.1. Crop insurance | B38: 31 | C38: 7.1. Pasėlių draudimas | H38: 0 | I38: 51 | L38: 9 | O38: 0 | Q38: 0 | S38: 0 | X38: 6877 | Y38: 6937
A39: =IFERROR(VLOOKUP(C39,'LT-EN'!$A:$B,2,FALSE)," ") -> 7.2. Livestock insurance | B39: 32 | C39: 7.2. Gyvūnų draudimas | H39: 0 | I39: 112 | L39: 0 | M39: 412 | O39: 17 | Q39: 0 | S39: 216 | Y39: 757
A40: =IFERROR(VLOOKUP(C40,'LT-EN'!$A:$B,2,FALSE)," ") -> 7.3. Other property insurance | B40: 33 | C40: 7.3. Kitas turto draudimas | D40: 0 | E40: 0 | F40: 0 | G40: 14796 | H40: 0 | I40: 71593 | J40: 0 | K40: 0 | L40: 64097 | M40: 157463 | N40: 0 | O40: 35717 | P40: 0 | Q40: 27688 | R40: 0 | S40: 453225 | T40: 0 | U40: 0 | V40: 0 | W40: 201121 | X40: 0 | Y40: 1025700
A41: =IFERROR(VLOOKUP(C41,'LT-EN'!$A:$B,2,FALSE)," ") -> 7.3.1. Policyholders - legal persons | B41: 34 | C41: 7.3.1. Draudėjai - juridiniai asmenys | G41: 2502 | H41: 0 | I41: 9856 | L41: 6454 | M41: 9767 | O41: 3841 | Q41: 3942 | S41: 9349 | W41: 47 | Y41: 45758
A42: =IFERROR(VLOOKUP(C42,'LT-EN'!$A:$B,2,FALSE)," ") -> 7.3.2. Policyholders - natural persons | B42: 35 | C42: 7.3.2. Draudėjai - fiziniai asmenys | G42: 12294 | H42: 0 | I42: 61737 | L42: 57643 | M42: 147696 | O42: 31876 | Q42: 23746 | S42: 443876 | W42: 201074 | Y42: 979942
...

Sheet DSR2
A1: Insurance contracts in force, units | C1: Galiojančios draudimo sutartys, vnt.
A3: ='DSR1'!C3 -> 2026-08-31 | B3: Data_men | C3: 2026-08-31
B5: Ataskaitinio laikotarpio pabaigoje galiojančios draudimo sutartys, vnt.
A6: Business lines / Insurers | B6: eil.nr | C6: Draudimo grupės / Draudikai | D6: Allianz Lietuva gyvybės draudimas | E6: Artea Life Insurance | F6: ATRADIUS filialas | G6: Balcia Insurance filialas | H6: Baltijas Apdrosinasanas Nams filialas | I6: BTA Insurance Company filialas | J6: COFACE filialas | K6: Compensa Life VIG filialas | L6: Compensa VIG | M6: ERGO Insurance filialas | N6: ERGO Life Insurance | O6: Gjensidige | P6: If P&C Insurance (publ) filialas | Q6: If P&C Insurance filialas | R6: Lamantinas | S6: Lietuvos draudimas | T6: PZU Lietuva gyvybės draudimas | U6: SEB Life and Pension Baltic filialas | V6: Swedbank Life Insurance filialas | W6: Swedbank P&C Insurance filialas | X6: Vereinigte Hagelversicherung filialas VH Lietuva | Y6: All
A7: =IFERROR(VLOOKUP(C7,'LT-EN'!$A:$B,2,FALSE)," ") -> ALL | B7: 0 | C7: Visos | D7: 75593 | E7: 51067 | F7: 0 | G7: 181158 | H7: 17478 | I7: 749904 | J7: 291 | K7: 153085 | L7: 749004 | M7: 1077403 | N7: 64422 | O7: 434231 | P7: 0 | Q7: 301087 | R7: 3800 | S7: 2061197 | T7: 45279 | U7: 149448 | V7: 206008 | W7: 786852 | X7: 6877 | Y7: 7114184
A8: =IFERROR(VLOOKUP(C8,'LT-EN'!$A:$B,2,FALSE)," ") -> NON-LIFE INSURANCE | B8: 1 | C8: NE GYVYBĖS DRAUDIMAS | D8: 0 | E8: 0 | F8: 0 | G8: 181158 | H8: 17478 | I8: 749904 | J8: 291 | K8: 1033 | L8: 749004 | M8: 1077403 | N8: 535 | O8: 434231 | P8: 0 | Q8: 301087 | R8: 3800 | S8: 2061197 | T8: 0 | U8: 6 | V8: 0 | W8: 786852 | X8: 6877 | Y8: 6370856
A9: =IFERROR(VLOOKUP(C9,'LT-EN'!$A:$B,2,FALSE)," ") -> 1. Medical expense insurance | B9: 2 | C9: 1. Medicininių išlaidų draudimas | D9: 0 | E9: 0 | F9: 0 | G9: 1229 | H9: 0 | I9: 9909 | J9: 0 | K9: 1033 | L9: 3266 | M9: 5601 | N9: 535 | O9: 4969 | P9: 0 | Q9: 767 | R9: 0 | S9: 24784 | T9: 0 | U9: 0 | V9: 0 | W9: 1332 | X9: 0 | Y9: 53425
A10: =IFERROR(VLOOKUP(C10,'LT-EN'!$A:$B,2,FALSE)," ") -> 1.1. Supplementary voluntary health insurance | B10: 3 | C10: 1.1. Papildomasis savanoriškasis sveikatos draudimas | D10: 0 | E10: 0 | F10: 0 | G10: 0 | H10: 0 | I10: 1182 | J10: 0 | K10: 1033 | L10: 1527 | M10: 0 | N10: 535 | O10: 494 | P10: 0 | Q10: 0 | R10: 0 | S10: 20625 | T10: 0 | U10: 0 | V10: 0 | W10: 0 | X10: 0 | Y10: 25396
A11: =IFERROR(VLOOKUP(C11,'LT-EN'!$A:$B,2,FALSE)," ") -> 1.1.1. Policyholders - legal persons | B11: 4 | C11: 1.1.1. Draudėjai - juridiniai asmenys | H11: 0 | I11: 881 | K11: 1033 | L11: 1468 | N11: 376 | O11: 465 | Q11: 0 | S11: 1577 | Y11: 5800
A12: =IFERROR(VLOOKUP(C12,'LT-EN'!$A:$B,2,FALSE)," ") -> 1.1.2. Policyholders - natural persons | B12: 5 | C12: 1.1.2. Draudėjai - fiziniai asmenys | H12: 0 | I12: 301 | L12: 59 | N12: 159 | O12: 29 | Q12: 0 | S12: 19048 | Y12: 19596
A13: =IFERROR(VLOOKUP(C13,'LT-EN'!$A:$B,2,FALSE)," ") -> 1.2. Other | B13: 6 | C13: 1.2. Kita | D13: 0 | E13: 0 | F13: 0 | G13: 1229 | H13: 0 | I13: 8727 | J13: 0 | K13: 0 | L13: 1739 | M13: 5601 | N13: 0 | O13: 4475 | P13: 0 | Q13: 767 | R13: 0 | S13: 4159 | T13: 0 | U13: 0 | V13: 0 | W13: 1332 | X13: 0 | Y13: 28029
A14: =IFERROR(VLOOKUP(C14,'LT-EN'!$A:$B,2,FALSE)," ") -> 1.2.1. Policyholders - legal persons | B14: 7 | C14: 1.2.1. Draudėjai - juridiniai asmenys | G14: 145 | H14: 0 | I14: 2005 | L14: 106 | M14: 610 | O14: 274 | Q14: 253 | S14: 758 | W14: 0 | Y14: 4151
A15: =IFERROR(VLOOKUP(C15,'LT-EN'!$A:$B,2,FALSE)," ") -> 1.2.2. Policyholders - natural persons | B15: 8 | C15: 1.2.2. Draudėjai - fiziniai asmenys | G15: 1084 | H15: 0 | I15: 6722 | L15: 1633 | M15: 4991 | O15: 4201 | Q15: 514 | S15: 3401 | W15: 1332 | Y15: 23878
A16: =IFERROR(VLOOKUP(C16,'LT-EN'!$A:$B,2,FALSE)," ") -> 2. Income protection insurance | B16: 9 | C16: 2. Pajamų apsaugos draudimas | D16: 0 | E16: 0 | F16: 0 | G16: 15506 | H16: 0 | I16: 85195 | J16: 0 | K16: 0 | L16: 77784 | M16: 122877 | N16: 0 | O16: 35112 | P16: 0 | Q16: 46529 | R16: 0 | S16: 264333 | T16: 0 | U16: 6 | V16: 0 | W16: 93320 | X16: 0 | Y16: 740662
A17: =IFERROR(VLOOKUP(C17,'LT-EN'!$A:$B,2,FALSE)," ") -> 2.1. Policyholders - legal persons | B17: 10 | C17: 2.1. Draudėjai - juridiniai asmenys | G17: 1553 | H17: 0 | I17: 9135 | L17: 9111 | M17: 14513 | O17: 5081 | Q17: 20470 | S17: 22731 | U17: 6 | W17: 3 | Y17: 82603
A18: =IFERROR(VLOOKUP(C18,'LT-EN'!$A:$B,2,FALSE)," ") -> 2.2. Policyholders - natural persons | B18: 11 | C18: 2.2. Draudėjai - fiziniai asmenys | G18: 13953 | H18: 0 | I18: 76060 | L18: 68673 | M18: 108364 | O18: 30031 | Q18: 26059 | S18: 241602 | W18: 93317 | Y18: 658059
A19: =IFERROR(VLOOKUP(C19,'LT-EN'!$A:$B,2,FALSE)," ") -> 3. Workers' compensation insurance | B19: 12 | C19: 3. Nelaimingų atsitikimų darbe draudimas | H19: 0 | I19: 0 | L19: 0 | O19: 0 | Q19: 0 | S19: 0 | Y19: 0
A20: =IFERROR(VLOOKUP(C20,'LT-EN'!$A:$B,2,FALSE)," ") -> 4. Motor vehicle liability insurance | B20: 13 | C20: 4. Motorinių transporto priemonių valdytojų civilinės atsakomybės draudimas | D20: 0 | E20: 0 | F20: 0 | G20: 97867 | H20: 17478 | I20: 321856 | J20: 0 | K20: 0 | L20: 335859 | M20: 446095 | N20: 0 | O20: 189965 | P20: 0 | Q20: 126940 | R20: 0 | S20: 573406 | T20: 0 | U20: 0 | V20: 0 | W20: 67048 | X20: 0 | Y20: 2176514
A21: =IFERROR(VLOOKUP(C21,'LT-EN'!$A:$B,2,FALSE)," ") -> 4.1. Liability arising out of the use of motor vehicles operating on the land insurance | B21: 14 | C21: 4.1. Sausumos transporto priemonių valdytojų civilinės atsakomybės draudimas | D21: 0 | E21: 0 | F21: 0 | G21: 97867 | H21: 17478 | I21: 321083 | J21: 0 | K21: 0 | L21: 335859 | M21: 445328 | N21: 0 | O21: 189961 | P21: 0 | Q21: 126262 | R21: 0 | S21: 572535 | T21: 0 | U21: 0 | V21: 0 | W21: 67048 | X21: 0 | Y21: 2173421
A22: =IFERROR(VLOOKUP(C22,'LT-EN'!$A:$B,2,FALSE)," ") -> 4.1.1. Policyholders - legal persons | B22: 15 | C22: 4.1.1. Draudėjai - juridiniai asmenys | G22: 26845 | H22: 1 | I22: 79805 | L22: 51195 | M22: 85990 | O22: 29026 | Q22: 48202 | S22: 133902 | W22: 2288 | Y22: 457254
A23: =IFERROR(VLOOKUP(C23,'LT-EN'!$A:$B,2,FALSE)," ") -> 4.1.2. Policyholders - natural persons | B23: 16 | C23: 4.1.2. Draudėjai - fiziniai asmenys | G23: 71022 | H23: 17477 | I23: 241278 | L23: 284664 | M23: 359338 | O23: 160935 | Q23: 78060 | S23: 438633 | W23: 64760 | Y23: 1716167
A24: =IFERROR(VLOOKUP(C24,'LT-EN'!$A:$B,2,FALSE)," ") -> 4.2. Carrier third party liability (CMR) insurance | B24: 17 | C24: 4.2. Vežėjų civilinės atsakomybės draudimas | H24: 0 | I24: 760 | L24: 0 | M24: 767 | O24: 0 | Q24: 678 | S24: 858 | Y24: 3063
A25: =IFERROR(VLOOKUP(C25,'LT-EN'!$A:$B,2,FALSE)," ") -> 4.3. Liability arising out of use railway rolling stock insurance | B25: 18 | C25: 4.3. Geležinkelių transporto priemonių valdytojų civilinės atsakomybės draudimas | H25: 0 | I25: 13 | L25: 0 | O25: 4 | Q25: 0 | S25: 13 | Y25: 30
A26: =IFERROR(VLOOKUP(C26,'LT-EN'!$A:$B,2,FALSE)," ") -> 5. Other motor insurance | B26: 19 | C26: 5. Kitas transporto priemonių draudimas | D26: 0 | E26: 0 | F26: 0 | G26: 8848 | H26: 0 | I26: 64923 | J26: 0 | K26: 0 | L26: 91857 | M26: 102998 | N26: 0 | O26: 13251 | P26: 0 | Q26: 52297 | R26: 0 | S26: 207032 | T26: 0 | U26: 0 | V26: 0 | W26: 29625 | X26: 0 | Y26: 570831
A27: =IFERROR(VLOOKUP(C27,'LT-EN'!$A:$B,2,FALSE)," ") -> 5.1. Land vehicles other than railway rolling stock insurance | B27: 20 | C27: 5.1. Sausumos transporto priemonių, išskyrus geležinkelio transporto priemones, draudimas | D27: 0 | E27: 0 | F27: 0 | G27: 8848 | H27: 0 | I27: 64913 | J27: 0 | K27: 0 | L27: 91857 | M27: 102997 | N27: 0 | O27: 13250 | P27: 0 | Q27: 52297 | R27: 0 | S27: 207024 | T27: 0 | U27: 0 | V27: 0 | W27: 29625 | X27: 0 | Y27: 570811
A28: =IFERROR(VLOOKUP(C28,'LT-EN'!$A:$B,2,FALSE)," ") -> 5.1.1. Policyholders - legal persons | B28: 21 | C28: 5.1.1. Draudėjai - juridiniai asmenys | G28: 739 | H28: 0 | I28: 16443 | L28: 27090 | M28: 42317 | O28: 5946 | Q28: 24075 | S28: 82062 | W28: 3051 | Y28: 201723
A29: =IFERROR(VLOOKUP(C29,'LT-EN'!$A:$B,2,FALSE)," ") -> 5.1.2. Policyholders - natural persons | B29: 22 | C29: 5.1.2. Draudėjai - fiziniai asmenys | G29: 8109 | H29: 0 | I29: 48470 | L29: 64767 | M29: 60680 | O29: 7304 | Q29: 28222 | S29: 124962 | W29: 26574 | Y29: 369088
A30: =IFERROR(VLOOKUP(C30,'LT-EN'!$A:$B,2,FALSE)," ") -> 5.2. Railway rolling stock insurance | B30: 23 | C30: 5.2. Geležinkelio transporto priemonių draudimas | H30: 0 | I30: 10 | L30: 0 | M30: 1 | O30: 1 | Q30: 0 | S30: 8 | Y30: 20
A31: =IFERROR(VLOOKUP(C31,'LT-EN'!$A:$B,2,FALSE)," ") -> 6. Marine, aviation and transport insurance | B31: 24 | C31: 6. Jūrų, oro ir sausumos transporto priemonių draudimas | D31: 0 | E31: 0 | F31: 0 | G31: 0 | H31: 0 | I31: 718 | J31: 0 | K31: 0 | L31: 128 | M31: 342 | N31: 0 | O31: 44 | P31: 0 | Q31: 150 | R31: 0 | S31: 323 | T31: 0 | U31: 0 | V31: 0 | W31: 0 | X31: 0 | Y31: 1705
A32: =IFERROR(VLOOKUP(C32,'LT-EN'!$A:$B,2,FALSE)," ") -> 6.1. Liability arising out of use of ships (sea and internal waters) insurance | B32: 25 | C32: 6.1. Laivų (jūrų ir vidaus vandenų) valdytojų civilinės atsakomybės draudimas | H32: 0 | I32: 130 | L32: 0 | O32: 4 | Q32: 0 | S32: 83 | Y32: 217
A33: =IFERROR(VLOOKUP(C33,'LT-EN'!$A:$B,2,FALSE)," ") -> 6.2. Ships (sea and internal waters) insurance | B33: 26 | C33: 6.2. Laivų (jūrų ir vidaus vandenų) draudimas | H33: 0 | I33: 62 | L33: 0 | M33: 56 | O33: 7 | P33: 0 | Q33: 36 | S33: 98 | Y33: 259
A34: =IFERROR(VLOOKUP(C34,'LT-EN'!$A:$B,2,FALSE)," ") -> 6.3. Liability arising out of the use of aircraft insurance | B34: 27 | C34: 6.3. Skraidymo aparatų valdytojų civilinės atsakomybės draudimas | H34: 0 | I34: 387 | L34: 0 | O34: 0 | Q34: 14 | S34: 1 | Y34: 402
A35: =IFERROR(VLOOKUP(C35,'LT-EN'!$A:$B,2,FALSE)," ") -> 6.4. Aircraft insurance | B35: 28 | C35: 6.4. Skraidymo aparatų draudimas | H35: 0 | I35: 28 | L35: 0 | O35: 0 | Q35: 0 | S35: 1 | Y35: 29
A36: =IFERROR(VLOOKUP(C36,'LT-EN'!$A:$B,2,FALSE)," ") -> 6.5. Goods in transit insurance | B36: 29 | C36: 6.5. Vežamų krovinių draudimas | H36: 0 | I36: 111 | L36: 128 | M36: 286 | O36: 33 | P36: 0 | Q36: 100 | S36: 140 | Y36: 798
A37: =IFERROR(VLOOKUP(C37,'LT-EN'!$A:$B,2,FALSE)," ") -> 7. Fire and other damage to property insurance | B37: 30 | C37: 7. Draudimas nuo gaisro ir kitos žalos, padarytos turtui | D37: 0 | E37: 0 | F37: 0 | G37: 22290 | H37: 0 | I37: 102795 | J37: 0 | K37: 0 | L37: 92442 | M37: 206362 | N37: 0 | O37: 62276 | P37: 0 | Q37: 46462 | R37: 0 | S37: 703286 | T37: 0 | U37: 0 | V37: 0 | W37: 267491 | X37: 6877 | Y37: 1510281
A38: =IFERROR(VLOOKUP(C38,'LT-EN'!$A:$B,2,FALSE)," ") -> 7.1. Crop insurance | B38: 31 | C38: 7.1. Pasėlių draudimas | H38: 0 | I38: 67 | L38: 12 | O38: 0 | Q38: 0 | S38: 0 | X38: 6877 | Y38: 6956
A39: =IFERROR(VLOOKUP(C39,'LT-EN'!$A:$B,2,FALSE)," ") -> 7.2. Livestock insurance | B39: 32 | C39: 7.2. Gyvūnų draudimas | H39: 0 | I39: 132 | L39: 0 | M39: 466 | O39: 22 | Q39: 0 | S39: 351 | Y39: 971
A40: =IFERROR(VLOOKUP(C40,'LT-EN'!$A:$B,2,FALSE)," ") -> 7.3. Other property insurance | B40: 33 | C40: 7.3. Kitas turto draudimas | D40: 0 | E40: 0 | F40: 0 | G40: 22290 | H40: 0 | I40: 102596 | J40: 0 | K40: 0 | L40: 92430 | M40: 205896 | N40: 0 | O40: 62254 | P40: 0 | Q40: 46462 | R40: 0 | S40: 702935 | T40: 0 | U40: 0 | V40: 0 | W40: 267491 | X40: 0 | Y40: 1502354
A41: =IFERROR(VLOOKUP(C41,'LT-EN'!$A:$B,2,FALSE)," ") -> 7.3.1. Policyholders - legal persons | B41: 34 | C41: 7.3.1. Draudėjai - juridiniai asmenys | G41: 3231 | H41: 0 | I41: 12157 | L41: 8710 | M41: 11094 | O41: 7340 | Q41: 5538 | S41: 13134 | W41: 65 | Y41: 61269
A42: =IFERROR(VLOOKUP(C42,'LT-EN'!$A:$B,2,FALSE)," ") -> 7.3.2. Policyholders - natural persons | B42: 35 | C42: 7.3.2. Draudėjai - fiziniai asmenys | G42: 19059 | H42: 0 | I42: 90439 | L42: 83720 | M42: 194802 | O42: 54914 | Q42: 40924 | S42: 689801 | W42: 267426 | Y42: 1441085
...

Sheet DSR3
A1: Insurance contracts cancelled, units | C1: Nutrauktos draudimo sutartys, vnt.
A3: ='DSR1'!C3 -> 2026-08-31
B5: Per ataskaitinį laikotarpį nutrauktos draudimo sutartys, vnt.
A6: Business lines / Insurers | B6: eil.nr | C6: Draudimo grupės / Draudikai | D6: Allianz Lietuva gyvybės draudimas | E6: Artea Life Insurance | F6: ATRADIUS filialas | G6: Balcia Insurance filialas | H6: Baltijas Apdrosinasanas Nams filialas | I6: BTA Insurance Company filialas | J6: COFACE filialas | K6: Compensa Life VIG filialas | L6: Compensa VIG | M6: ERGO Insurance filialas | N6: ERGO Life Insurance | O6: Gjensidige | P6: If P&C Insurance (publ) filialas | Q6: If P&C Insurance filialas | R6: Lamantinas | S6: Lietuvos draudimas | T6: PZU Lietuva gyvybės draudimas | U6: SEB Life and Pension Baltic filialas | V6: Swedbank Life Insurance filialas | W6: Swedbank P&C Insurance filialas | X6: Vereinigte Hagelversicherung filialas VH Lietuva | Y6: All
A7: =IFERROR(VLOOKUP(C7,'LT-EN'!$A:$B,2,FALSE)," ") -> ALL | B7: 0 | C7: Visos | D7: 4057 | E7: 2388 | F7: 0 | G7: 0 | H7: 0 | I7: 0 | J7: 0 | K7: 7633 | L7: 0 | M7: 0 | N7: 2339 | O7: 0 | P7: 0 | Q7: 0 | R7: 0 | S7: 0 | T7: 1465 | U7: 8656 | V7: 6740 | W7: 0 | X7: 0 | Y7: 33278
A8: =IFERROR(VLOOKUP(C8,'LT-EN'!$A:$B,2,FALSE)," ") -> LIFE ASSURANCE | B8: 49 | C8: GYVYBĖS DRAUDIMAS | D8: 4057 | E8: 2388 | F8: 0 | G8: 0 | H8: 0 | I8: 0 | J8: 0 | K8: 7633 | L8: 0 | M8: 0 | N8: 2339 | O8: 0 | P8: 0 | Q8: 0 | R8: 0 | S8: 0 | T8: 1465 | U8: 8656 | V8: 6740 | W8: 0 | X8: 0 | Y8: 33278
A9: =IFERROR(VLOOKUP(C9,'LT-EN'!$A:$B,2,FALSE)," ") -> 1. Health insurance | B9: 50 | C9: 1. Sveikatos draudimas | K9: 87 | N9: 584 | O9: 0 | T9: 1 | Y9: 672
A10: =IFERROR(VLOOKUP(C10,'LT-EN'!$A:$B,2,FALSE)," ") -> 2. Insurance with profit participation | B10: 51 | C10: 2. Draudimas su teise dalytis pelną | D10: 0 | E10: 81 | F10: 0 | G10: 0 | H10: 0 | I10: 0 | J10: 0 | K10: 2169 | L10: 0 | M10: 0 | N10: 349 | O10: 0 | P10: 0 | Q10: 0 | R10: 0 | S10: 0 | T10: 272 | U10: 2 | V10: 24 | W10: 0 | X10: 0 | Y10: 2897
A11: =IFERROR(VLOOKUP(C11,'LT-EN'!$A:$B,2,FALSE)," ") -> 2.1. Insurance in case of survival | B11: 52 | C11: 2.1. Draudimas išgyvenimo atveju | E11: 69 | K11: 2169 | N11: 263 | O11: 0 | T11: 272 | U11: 2 | V11: 24 | Y11: 2799
A12: =IFERROR(VLOOKUP(C12,'LT-EN'!$A:$B,2,FALSE)," ") -> 2.2. Annuities | B12: 53 | C12: 2.2. Anuitetai | E12: 12 | K12: 0 | N12: 86 | O12: 0 | Q12: 0 | U12: 0 | V12: 0 | Y12: 98
A13: =IFERROR(VLOOKUP(C13,'LT-EN'!$A:$B,2,FALSE)," ") -> 2.3.Insurance in case of death | B13: 54 | C13: 2.3. Draudimas mirties atveju | K13: 0 | O13: 0 | V13: 0 | Y13: 0
A14: =IFERROR(VLOOKUP(C14,'LT-EN'!$A:$B,2,FALSE)," ") -> 2.4. Other insurance with profit participation | B14: 55 | C14: 2.4. Kitas draudimas, suteikiantis teisę gauti pelno dalį | K14: 0 | O14: 0 | V14: 0 | Y14: 0
A15: =IFERROR(VLOOKUP(C15,'LT-EN'!$A:$B,2,FALSE)," ") -> 3. Index-linked and unit-linked insurance | B15: 56 | C15: 3. Su indeksu ir investiciniais vienetais susijęs draudimas | D15: 3414 | E15: 1824 | F15: 0 | G15: 0 | H15: 0 | I15: 0 | J15: 0 | K15: 5119 | L15: 0 | M15: 0 | N15: 778 | O15: 0 | P15: 0 | Q15: 0 | R15: 0 | S15: 0 | T15: 1029 | U15: 3119 | V15: 3203 | W15: 0 | X15: 0 | Y15: 18486
A16: =IFERROR(VLOOKUP(C16,'LT-EN'!$A:$B,2,FALSE)," ") -> 3.1. Index-linked and unit-linked insurance, when the insurance risk is significant | B16: 57 | C16: 3.1. Su indeksu ir investiciniais vienetais susijęs draudimas, kai draudimo rizika yra reikšminga | D16: 3414 | E16: 1458 | K16: 0 | N16: 675 | O16: 0 | T16: 869 | U16: 662 | V16: 3018 | Y16: 10096
A17: =IFERROR(VLOOKUP(C17,'LT-EN'!$A:$B,2,FALSE)," ") -> 3.2. Index-linked and unit-linked insurance, when the insurance risk is insignificant | B17: 58 | C17: 3.2. Su indeksu ir investiciniais vienetais susijęs draudimas, kai draudimo rizika yra nereikšminga | E17: 366 | K17: 5119 | N17: 103 | O17: 0 | T17: 160 | U17: 2457 | V17: 185 | Y17: 8390
A18: =IFERROR(VLOOKUP(C18,'LT-EN'!$A:$B,2,FALSE)," ") -> 4. Other life insurance | B18: 59 | C18: 4. Kitas gyvybės draudimas | D18: 643 | E18: 483 | F18: 0 | G18: 0 | H18: 0 | I18: 0 | J18: 0 | K18: 258 | L18: 0 | M18: 0 | N18: 628 | O18: 0 | P18: 0 | Q18: 0 | R18: 0 | S18: 0 | T18: 163 | U18: 5535 | V18: 3513 | W18: 0 | X18: 0 | Y18: 11223
A19: =IFERROR(VLOOKUP(C19,'LT-EN'!$A:$B,2,FALSE)," ") -> 4.1. Insurance in case of survival | B19: 60 | C19: 4.1. Draudimas išgyvenimo atveju | K19: 0 | O19: 0 | V19: 0 | Y19: 0
A20: =IFERROR(VLOOKUP(C20,'LT-EN'!$A:$B,2,FALSE)," ") -> 4.2. Annuities | B20: 61 | C20: 4.2. Anuitetai | K20: 0 | O20: 0 | V20: 0 | Y20: 0
A21: =IFERROR(VLOOKUP(C21,'LT-EN'!$A:$B,2,FALSE)," ") -> 4.3. Insurance in case of death | B21: 62 | C21: 4.3. Draudimas mirties atveju | D21: 643 | E21: 483 | K21: 258 | N21: 628 | O21: 0 | T21: 163 | U21: 5535 | V21: 3513 | Y21: 11223
A22: =IFERROR(VLOOKUP(C22,'LT-EN'!$A:$B,2,FALSE)," ") -> 4.4. Other life insurance | B22: 63 | C22: 4.4. Kitas gyvybės draudimas | K22: 0 | O22: 0 | V22: 0 | Y22: 0
A23: =IFERROR(VLOOKUP(C23,'LT-EN'!$A:$B,2,FALSE)," ")
A24: =IFERROR(VLOOKUP(C24,'LT-EN'!$A:$B,2,FALSE)," ")
A25: =IFERROR(VLOOKUP(C25,'LT-EN'!$A:$B,2,FALSE)," ")
A26: =IFERROR(VLOOKUP(C26,'LT-EN'!$A:$B,2,FALSE)," ")
A27: =IFERROR(VLOOKUP(C27,'LT-EN'!$A:$B,2,FALSE)," ")
A28: =IFERROR(VLOOKUP(C28,'LT-EN'!$A:$B,2,FALSE)," ")
A29: =IFERROR(VLOOKUP(C29,'LT-EN'!$A:$B,2,FALSE)," ")
A30: =IFERROR(VLOOKUP(C30,'LT-EN'!$A:$B,2,FALSE)," ")
A31: =IFERROR(VLOOKUP(C31,'LT-EN'!$A:$B,2,FALSE)," ")
A32: =IFERROR(VLOOKUP(C32,'LT-EN'!$A:$B,2,FALSE)," ")
A33: =IFERROR(VLOOKUP(C33,'LT-EN'!$A:$B,2,FALSE)," ")
A34: =IFERROR(VLOOKUP(C34,'LT-EN'!$A:$B,2,FALSE)," ")
... A265: =IFERROR(VLOOKUP(C265,'LT-EN'!$A:$B,2,FALSE)," ")

Sheet DSR5
A1: Insurance premiums, EUR | C1: Draudimo įmokos, Eur
A3: ='DSR1'!C3 -> 2026-08-31
B5: Draudimo įmokos iš viso, Eur
A6: Business lines / Insurers | B6: eil.nr | C6: Draudimo grupės / Draudikai | D6: Allianz Lietuva gyvybės draudimas | E6: Artea Life Insurance | F6: ATRADIUS filialas | G6: Balcia Insurance filialas | H6: Baltijas Apdrosinasanas Nams filialas | I6: BTA Insurance Company filialas | J6: COFACE filialas | K6: Compensa Life VIG filialas | L6: Compensa VIG | M6: ERGO Insurance filialas | N6: ERGO Life Insurance | O6: Gjensidige | P6: If P&C Insurance (publ) filialas | Q6: If P&C Insurance filialas | R6: Lamantinas | S6: Lietuvos draudimas | T6: PZU Lietuva gyvybės draudimas | U6: SEB Life and Pension Baltic filialas | V6: Swedbank Life Insurance filialas | W6: Swedbank P&C Insurance filialas | X6: Vereinigte Hagelversicherung filialas VH Lietuva | Y6: All
A7: =IFERROR(VLOOKUP(C7,'LT-EN'!$A:$B,2,FALSE)," ") -> ALL | B7: 0 | C7: Visos | D7: 72310139 | E7: 23657806 | F7: 0 | G7: 25040395 | H7: 1081627.6 | I7: 145484203 | J7: 4551293 | K7: 89181605 | L7: 1.0387814e+08 | M7: 1.3342576e+08 | N7: 24960148 | O7: 32215122 | P7: 0 | Q7: 56833589 | R7: 1048038 | S7: 2.6093498e+08 | T7: 21587260 | U7: 54106518 | V7: 58314840 | W7: 54382246 | X7: 22381272 | Y7: 1.185375e+09
A8: =IFERROR(VLOOKUP(C8,'LT-EN'!$A:$B,2,FALSE)," ") -> NON-LIFE INSURANCE | B8: 1 | C8: NE GYVYBĖS DRAUDIMAS | D8: 0 | E8: 0 | F8: 0 | G8: 25040395 | H8: 1081627.6 | I8: 145484203 | J8: 4551293 | K8: 27496823 | L8: 1.0387814e+08 | M8: 1.3342576e+08 | N8: 6150444 | O8: 32215122 | P8: 0 | Q8: 56833589 | R8: 1048038 | S8: 2.6093498e+08 | T8: 0 | U8: 398283.84 | V8: 0 | W8: 54382246 | X8: 22381272 | Y8: 8.7530222e+08
A9: =IFERROR(VLOOKUP(C9,'LT-EN'!$A:$B,2,FALSE)," ") -> 1. Medical expense insurance | B9: 2 | C9: 1. Medicininių išlaidų draudimas | D9: 0 | E9: 0 | F9: 0 | G9: 938926.86 | H9: 0 | I9: 19870539 | J9: 0 | K9: 27496823 | L9: 11848733 | M9: 1748683.1 | N9: 6150444 | O9: 6721065.4 | P9: 0 | Q9: 885026.97 | R9: 0 | S9: 19528574 | T9: 0 | U9: 0 | V9: 0 | W9: 2066027.7 | X9: 0 | Y9: 97254842
A10: =IFERROR(VLOOKUP(C10,'LT-EN'!$A:$B,2,FALSE)," ") -> 1.1. Supplementary voluntary health insurance | B10: 3 | C10: 1.1. Papildomasis savanoriškasis sveikatos draudimas | D10: 0 | E10: 0 | F10: 0 | G10: 0 | H10: 0 | I10: 16317036 | J10: 0 | K10: 27496823 | L10: 10690267 | M10: 0 | N10: 6150444 | O10: 5743535.2 | P10: 0 | Q10: 0 | R10: 0 | S10: 16807694 | T10: 0 | U10: 0 | V10: 0 | W10: 0 | X10: 0 | Y10: 83205799
A11: =IFERROR(VLOOKUP(C11,'LT-EN'!$A:$B,2,FALSE)," ") -> 1.1.1. Policyholders - legal persons | B11: 4 | C11: 1.1.1. Draudėjai - juridiniai asmenys | H11: 0 | I11: 14658623 | K11: 27496823 | L11: 10663037 | N11: 6097545.6 | O11: 5728854.4 | Q11: 0 | S11: 12667683 | Y11: 77312566
A12: =IFERROR(VLOOKUP(C12,'LT-EN'!$A:$B,2,FALSE)," ") -> 1.1.2. Policyholders - natural persons | B12: 5 | C12: 1.1.2. Draudėjai - fiziniai asmenys | H12: 0 | I12: 1658413 | L12: 27229.69 | N12: 52898.46 | O12: 14680.74 | Q12: 0 | S12: 4140011.5 | Y12: 5893233.4
A13: =IFERROR(VLOOKUP(C13,'LT-EN'!$A:$B,2,FALSE)," ") -> 1.2. Other | B13: 6 | C13: 1.2. Kita | D13: 0 | E13: 0 | F13: 0 | G13: 938926.86 | H13: 0 | I13: 3553503 | J13: 0 | K13: 0 | L13: 1158465.9 | M13: 1748683.1 | N13: 0 | O13: 977530.22 | P13: 0 | Q13: 885026.97 | R13: 0 | S13: 2720879.5 | T13: 0 | U13: 0 | V13: 0 | W13: 2066027.7 | X13: 0 | Y13: 14049043
A14: =IFERROR(VLOOKUP(C14,'LT-EN'!$A:$B,2,FALSE)," ") -> 1.2.1. Policyholders - legal persons | B14: 7 | C14: 1.2.1. Draudėjai - juridiniai asmenys | G14: 273606.02 | H14: 0 | I14: 848217 | L14: 543997.97 | M14: 468595.31 | O14: 101428.87 | Q14: 152822.39 | S14: 950612.54 | W14: 83.75 | Y14: 3339363.8
A15: =IFERROR(VLOOKUP(C15,'LT-EN'!$A:$B,2,FALSE)," ") -> 1.2.2. Policyholders - natural persons | B15: 8 | C15: 1.2.2. Draudėjai - fiziniai asmenys | G15: 665320.84 | H15: 0 | I15: 2705286 | L15: 614467.94 | M15: 1280087.8 | O15: 876101.35 | Q15: 732204.58 | S15: 1770266.9 | W15: 2065943.9 | Y15: 10709679
A16: =IFERROR(VLOOKUP(C16,'LT-EN'!$A:$B,2,FALSE)," ") -> 2. Income protection insurance | B16: 9 | C16: 2. Pajamų apsaugos draudimas | D16: 0 | E16: 0 | F16: 0 | G16: 899069.41 | H16: 0 | I16: 5804789 | J16: 0 | K16: 0 | L16: 2704131.4 | M16: 6821815.9 | N16: 0 | O16: 1437496.1 | P16: 0 | Q16: 917688.23 | R16: 0 | S16: 17967309 | T16: 0 | U16: 398283.84 | V16: 0 | W16: 1977186.6 | X16: 0 | Y16: 38927769
A17: =IFERROR(VLOOKUP(C17,'LT-EN'!$A:$B,2,FALSE)," ") -> 2.1. Policyholders - legal persons | B17: 10 | C17: 2.1. Draudėjai - juridiniai asmenys | G17: 499442.8 | H17: 0 | I17: 1227103 | L17: 746148.31 | M17: 1091651.1 | O17: 267732.16 | Q17: 598649.66 | S17: 1595546.1 | U17: 398283.84 | W17: 59.89 | Y17: 6424616.9
A18: =IFERROR(VLOOKUP(C18,'LT-EN'!$A:$B,2,FALSE)," ") -> 2.2. Policyholders - natural persons | B18: 11 | C18: 2.2. Draudėjai - fiziniai asmenys | G18: 399626.61 | H18: 0 | I18: 4577686 | L18: 1957983.1 | M18: 5730164.8 | O18: 1169763.9 | Q18: 319038.57 | S18: 16371763 | W18: 1977126.7 | Y18: 32503152
A19: =IFERROR(VLOOKUP(C19,'LT-EN'!$A:$B,2,FALSE)," ") -> 3. Workers' compensation insurance | B19: 12 | C19: 3. Nelaimingų atsitikimų darbe draudimas | H19: 0 | I19: 0 | L19: 0 | M19: 0 | O19: 0 | Q19: 0 | S19: 0 | Y19: 0
A20: =IFERROR(VLOOKUP(C20,'LT-EN'!$A:$B,2,FALSE)," ") -> 4. Motor vehicle liability insurance | B20: 13 | C20: 4. Motorinių transporto priemonių valdytojų civilinės atsakomybės draudimas | D20: 0 | E20: 0 | F20: 0 | G20: 12326584 | H20: 1081627.6 | I20: 46411199 | J20: 0 | K20: 0 | L20: 22236009 | M20: 52682131 | N20: 0 | O20: 11233357 | P20: 0 | Q20: 17125694 | R20: 0 | S20: 74739544 | T20: 0 | U20: 0 | V20: 0 | W20: 5040985.6 | X20: 0 | Y20: 2.4287713e+08
A21: =IFERROR(VLOOKUP(C21,'LT-EN'!$A:$B,2,FALSE)," ") -> 4.1. Liability arising out of the use of motor vehicles operating on the land insurance | B21: 14 | C21: 4.1. Sausumos transporto priemonių valdytojų civilinės atsakomybės draudimas | D21: 0 | E21: 0 | F21: 0 | G21: 12326584 | H21: 1081627.6 | I21: 45604826 | J21: 0 | K21: 0 | L21: 22236009 | M21: 51453984 | N21: 0 | O21: 11077277 | P21: 0 | Q21: 16491691 | R21: 0 | S21: 73358807 | T21: 0 | U21: 0 | V21: 0 | W21: 5040985.6 | X21: 0 | Y21: 2.3867179e+08
A22: =IFERROR(VLOOKUP(C22,'LT-EN'!$A:$B,2,FALSE)," ") -> 4.1.1. Policyholders - legal persons | B22: 15 | C22: 4.1.1. Draudėjai - juridiniai asmenys | G22: 7501325.7 | H22: 99.77 | I22: 28231288 | L22: 5856414.7 | M22: 24292785 | O22: 2841176.8 | Q22: 11694183 | S22: 29692550 | W22: 270788.35 | Y22: 1.1038061e+08
A23: =IFERROR(VLOOKUP(C23,'LT-EN'!$A:$B,2,FALSE)," ") -> 4.1.2. Policyholders - natural persons | B23: 16 | C23: 4.1.2. Draudėjai - fiziniai asmenys | G23: 4825258.2 | H23: 1081527.8 | I23: 17373538 | L23: 16379594 | M23: 27161199 | O23: 8236099.8 | Q23: 4797507.7 | S23: 43666257 | W23: 4770197.3 | Y23: 1.2829118e+08
A24: =IFERROR(VLOOKUP(C24,'LT-EN'!$A:$B,2,FALSE)," ") -> 4.2. Carrier third party liability (CMR) insurance | B24: 17 | C24: 4.2. Vežėjų civilinės atsakomybės draudimas | H24: 0 | I24: 787049 | L24: 0 | M24: 1228146.3 | O24: 155118.1 | Q24: 634003.42 | S24: 968970.48 | Y24: 3773287.3
A25: =IFERROR(VLOOKUP(C25,'LT-EN'!$A:$B,2,FALSE)," ") -> 4.3. Liability arising out of use railway rolling stock insurance | B25: 18 | C25: 4.3. Geležinkelių transporto priemonių valdytojų civilinės atsakomybės draudimas | H25: 0 | I25: 19324 | L25: 0 | O25: 962 | Q25: 0 | S25: 411767 | Y25: 432053
A26: =IFERROR(VLOOKUP(C26,'LT-EN'!$A:$B,2,FALSE)," ") -> 5. Other motor insurance | B26: 19 | C26: 5. Kitas transporto priemonių draudimas | D26: 0 | E26: 0 | F26: 0 | G26: 6548730.9 | H26: 0 | I26: 33912665 | J26: 0 | K26: 0 | L26: 26898786 | M26: 33350934 | N26: 0 | O26: 3528458.5 | P26: 0 | Q26: 22622890 | R26: 0 | S26: 64850709 | T26: 0 | U26: 0 | V26: 0 | W26: 13946667 | X26: 0 | Y26: 2.0565984e+08
A27: =IFERROR(VLOOKUP(C27,'LT-EN'!$A:$B,2,FALSE)," ") -> 5.1. Land vehicles other than railway rolling stock insurance | B27: 20 | C27: 5.1. Sausumos transporto priemonių, išskyrus geležinkelio transporto priemones, draudimas | D27: 0 | E27: 0 | F27: 0 | G27: 6548730.9 | H27: 0 | I27: 33875819 | J27: 0 | K27: 0 | L27: 26898786 | M27: 33346397 | N27: 0 | O27: 3528458.5 | P27: 0 | Q27: 22622890 | R27: 0 | S27: 64837960 | T27: 0 | U27: 0 | V27: 0 | W27: 13946667 | X27: 0 | Y27: 2.0560571e+08
A28: =IFERROR(VLOOKUP(C28,'LT-EN'!$A:$B,2,FALSE)," ") -> 5.1.1. Policyholders - legal persons | B28: 21 | C28: 5.1.1. Draudėjai - juridiniai asmenys | G28: 3079469.8 | H28: 0 | I28: 19272812 | L28: 10083617 | M28: 15490448 | O28: 1557012.7 | Q28: 11678575 | S28: 32245412 | W28: 1689819.4 | Y28: 95097167
A29: =IFERROR(VLOOKUP(C29,'LT-EN'!$A:$B,2,FALSE)," ") -> 5.1.2. Policyholders - natural persons | B29: 22 | C29: 5.1.2. Draudėjai - fiziniai asmenys | G29: 3469261.1 | H29: 0 | I29: 14603007 | L29: 16815170 | M29: 17855949 | O29: 1971445.7 | Q29: 10944315 | S29: 32592548 | W29: 12256847 | Y29: 1.1050854e+08
A30: =IFERROR(VLOOKUP(C30,'LT-EN'!$A:$B,2,FALSE)," ") -> 5.2. Railway rolling stock insurance | B30: 23 | C30: 5.2. Geležinkelio transporto priemonių draudimas | H30: 0 | I30: 36846 | L30: 0 | M30: 4536.47 | O30: 0 | Q30: 0 | S30: 12748.84 | Y30: 54131.31
A31: =IFERROR(VLOOKUP(C31,'LT-EN'!$A:$B,2,FALSE)," ") -> 6. Marine, aviation and transport insurance | B31: 24 | C31: 6. Jūrų, oro ir sausumos transporto priemonių draudimas | D31: 0 | E31: 0 | F31: 0 | G31: 0 | H31: 0 | I31: 673563 | J31: 0 | K31: 0 | L31: 568867.81 | M31: 1184340 | N31: 0 | O31: 467669.74 | P31: 0 | Q31: 257814.56 | R31: 0 | S31: 547466.72 | T31: 0 | U31: 0 | V31: 0 | W31: 0 | X31: 0 | Y31: 3699721.8
A32: =IFERROR(VLOOKUP(C32,'LT-EN'!$A:$B,2,FALSE)," ") -> 6.1. Liability arising out of use of ships (sea and internal waters) insurance | B32: 25 | C32: 6.1. Laivų (jūrų ir vidaus vandenų) valdytojų civilinės atsakomybės draudimas | H32: 0 | I32: 65468 | L32: 0 | O32: 740 | Q32: 0 | S32: 17839.64 | Y32: 84047.64
A33: =IFERROR(VLOOKUP(C33,'LT-EN'!$A:$B,2,FALSE)," ") -> 6.2. Ships (sea and internal waters) insurance | B33: 26 | C33: 6.2. Laivų (jūrų ir vidaus vandenų) draudimas | H33: 0 | I33: 187484 | L33: 0 | M33: 127880.12 | O33: 3598 | P33: 0 | Q33: 23838.504 | S33: 86328.54 | Y33: 429129.16
A34: =IFERROR(VLOOKUP(C34,'LT-EN'!$A:$B,2,FALSE)," ") -> 6.3. Liability arising out of the use of aircraft insurance | B34: 27 | C34: 6.3. Skraidymo aparatų valdytojų civilinės atsakomybės draudimas | H34: 0 | I34: 109252 | L34: 0 | O34: 0 | Q34: 0 | S34: 18570 | Y34: 127822
A35: =IFERROR(VLOOKUP(C35,'LT-EN'!$A:$B,2,FALSE)," ") -> 6.4. Aircraft insurance | B35: 28 | C35: 6.4. Skraidymo aparatų draudimas | H35: 0 | I35: 39128 | L35: 0 | O35: 0 | Q35: 0 | S35: 34136.81 | Y35: 73264.81
A36: =IFERROR(VLOOKUP(C36,'LT-EN'!$A:$B,2,FALSE)," ") -> 6.5. Goods in transit insurance | B36: 29 | C36: 6.5. Vežamų krovinių draudimas | H36: 0 | I36: 272231 | L36: 568867.81 | M36: 1056459.9 | O36: 463331.74 | P36: 0 | Q36: 233976.06 | S36: 390591.73 | Y36: 2985458.2
A37: =IFERROR(VLOOKUP(C37,'LT-EN'!$A:$B,2,FALSE)," ") -> 7. Fire and other damage to property insurance | B37: 30 | C37: 7. Draudimas nuo gaisro ir kitos žalos, padarytos turtui | D37: 0 | E37: 0 | F37: 0 | G37: 3233524.9 | H37: 0 | I37: 24539958 | J37: 0 | K37: 0 | L37: 28567901 | M37: 24134360 | N37: 0 | O37: 6483055.8 | P37: 0 | Q37: 11736431 | R37: 0 | S37: 74425621 | T37: 0 | U37: 0 | V37: 0 | W37: 24061667 | X37: 22381272 | Y37: 2.1956379e+08
A38: =IFERROR(VLOOKUP(C38,'LT-EN'!$A:$B,2,FALSE)," ") -> 7.1. Crop insurance | B38: 31 | C38: 7.1. Pasėlių draudimas | H38: 0 | I38: 433419 | L38: 32933.39 | O38: 0 | Q38: 0 | S38: 0 | X38: 22381272 | Y38: 22847624
A39: =IFERROR(VLOOKUP(C39,'LT-EN'!$A:$B,2,FALSE)," ") -> 7.2. Livestock insurance | B39: 32 | C39: 7.2. Gyvūnų draudimas | H39: 0 | I39: 649952 | L39: 0 | M39: 775278.37 | O39: 4781.22 | Q39: 0 | S39: 1249163.2 | Y39: 2679174.8
A40: =IFERROR(VLOOKUP(C40,'LT-EN'!$A:$B,2,FALSE)," ") -> 7.3. Other property insurance | B40: 33 | C40: 7.3. Kitas turto draudimas | D40: 0 | E40: 0 | F40: 0 | G40: 3233524.9 | H40: 0 | I40: 23456587 | J40: 0 | K40: 0 | L40: 28534968 | M40: 23359082 | N40: 0 | O40: 6478274.6 | P40: 0 | Q40: 11736431 | R40: 0 | S40: 73176458 | T40: 0 | U40: 0 | V40: 0 | W40: 24061667 | X40: 0 | Y40: 1.9403699e+08
A41: =IFERROR(VLOOKUP(C41,'LT-EN'!$A:$B,2,FALSE)," ") -> 7.3.1. Policyholders - legal persons | B41: 34 | C41: 7.3.1. Draudėjai - juridiniai asmenys | G41: 1994133.2 | H41: 0 | I41: 11991665 | L41: 19872781 | M41: 10099888 | O41: 2029907.1 | Q41: 6759188.1 | S41: 18922323 | W41: 7803.07 | Y41: 71677689
A42: =IFERROR(VLOOKUP(C42,'LT-EN'!$A:$B,2,FALSE)," ") -> 7.3.2. Policyholders - natural persons | B42: 35 | C42: 7.3.2. Draudėjai - fiziniai asmenys | G42: 1239391.7 | H42: 0 | I42: 11464922 | L42: 8662186.9 | M42: 13259194 | O42: 4448367.5 | Q42: 4977242.7 | S42: 54254135 | W42: 24053864 | Y42: 1.223593e+08
...

Sheet DSR6
A1: Single premiums, EUR | C1: Vienakartinės draudimo įmokos, Eur
A3: ='DSR1'!C3 -> 2026-08-31
B5: Draudimo įmokos vienkartinės, Eur
A6: Business lines / Insurers | B6: eil.nr | C6: Draudimo grupės / Draudikai | D6: Allianz Lietuva gyvybės draudimas | E6: Artea Life Insurance | F6: ATRADIUS filialas | G6: Balcia Insurance filialas | H6: Baltijas Apdrosinasanas Nams filialas | I6: BTA Insurance Company filialas | J6: COFACE filialas | K6: Compensa Life VIG filialas | L6: Compensa VIG | M6: ERGO Insurance filialas | N6: ERGO Life Insurance | O6: Gjensidige | P6: If P&C Insurance (publ) filialas | Q6: If P&C Insurance filialas | R6: Lamantinas | S6: Lietuvos draudimas | T6: PZU Lietuva gyvybės draudimas | U6: SEB Life and Pension Baltic filialas | V6: Swedbank Life Insurance filialas | W6: Swedbank P&C Insurance filialas | X6: Vereinigte Hagelversicherung filialas VH Lietuva | Y6: All
A7: =IFERROR(VLOOKUP(C7,'LT-EN'!$A:$B,2,FALSE)," ") -> ALL | B7: 0 | C7: Visos | D7: 23204565 | E7: 1478907.8 | F7: 0 | G7: 0 | H7: 0 | I7: 0 | J7: 0 | K7: 3708023 | L7: 0 | M7: 0 | N7: 1858925 | O7: 0 | P7: 0 | Q7: 0 | R7: 0 | S7: 0 | T7: 2282123 | U7: 0 | V7: 538899 | W7: 0 | X7: 0 | Y7: 33071443
A8: =IFERROR(VLOOKUP(C8,'LT-EN'!$A:$B,2,FALSE)," ") -> LIFE ASSURANCE | B8: 49 | C8: GYVYBĖS DRAUDIMAS | D8: 23204565 | E8: 1478907.8 | F8: 0 | G8: 0 | H8: 0 | I8: 0 | J8: 0 | K8: 3708023 | L8: 0 | M8: 0 | N8: 1858925 | O8: 0 | P8: 0 | Q8: 0 | R8: 0 | S8: 0 | T8: 2282123 | U8: 0 | V8: 538899 | W8: 0 | X8: 0 | Y8: 33071443
A9: =IFERROR(VLOOKUP(C9,'LT-EN'!$A:$B,2,FALSE)," ") -> 1. Health insurance | B9: 50 | C9: 1. Sveikatos draudimas | K9: 0 | N9: 0 | O9: 0 | T9: 0 | Y9: 0
A10: =IFERROR(VLOOKUP(C10,'LT-EN'!$A:$B,2,FALSE)," ") -> 2. Insurance with profit participation | B10: 51 | C10: 2. Draudimas su teise dalytis pelną | D10: 0 | E10: 100 | F10: 0 | G10: 0 | H10: 0 | I10: 0 | J10: 0 | K10: 32014.45 | L10: 0 | M10: 0 | N10: 0 | O10: 0 | P10: 0 | Q10: 0 | R10: 0 | S10: 0 | T10: 72052 | U10: 0 | V10: 0 | W10: 0 | X10: 0 | Y10: 104166.45
A11: =IFERROR(VLOOKUP(C11,'LT-EN'!$A:$B,2,FALSE)," ") -> 2.1. Insurance in case of survival | B11: 52 | C11: 2.1. Draudimas išgyvenimo atveju | E11: 100 | K11: 32014.45 | N11: 0 | O11: 0 | T11: 72052 | U11: 0 | V11: 0 | Y11: 104166.45
A12: =IFERROR(VLOOKUP(C12,'LT-EN'!$A:$B,2,FALSE)," ") -> 2.2. Annuities | B12: 53 | C12: 2.2. Anuitetai | E12: 0 | K12: 0 | N12: 0 | O12: 0 | Q12: 0 | U12: 0 | V12: 0 | Y12: 0
A13: =IFERROR(VLOOKUP(C13,'LT-EN'!$A:$B,2,FALSE)," ") -> 2.3.Insurance in case of death | B13: 54 | C13: 2.3. Draudimas mirties atveju | K13: 0 | O13: 0 | V13: 0 | Y13: 0
A14: =IFERROR(VLOOKUP(C14,'LT-EN'!$A:$B,2,FALSE)," ") -> 2.4. Other insurance with profit participation | B14: 55 | C14: 2.4. Kitas draudimas, suteikiantis teisę gauti pelno dalį | K14: 0 | O14: 0 | V14: 0 | Y14: 0
A15: =IFERROR(VLOOKUP(C15,'LT-EN'!$A:$B,2,FALSE)," ") -> 3. Index-linked and unit-linked insurance | B15: 56 | C15: 3. Su indeksu ir investiciniais vienetais susijęs draudimas | D15: 23204565 | E15: 1202293.4 | F15: 0 | G15: 0 | H15: 0 | I15: 0 | J15: 0 | K15: 3469337.8 | L15: 0 | M15: 0 | N15: 1858925 | O15: 0 | P15: 0 | Q15: 0 | R15: 0 | S15: 0 | T15: 2210071 | U15: 0 | V15: 538899 | W15: 0 | X15: 0 | Y15: 32484091
A16: =IFERROR(VLOOKUP(C16,'LT-EN'!$A:$B,2,FALSE)," ") -> 3.1. Index-linked and unit-linked insurance, when the insurance risk is significant | B16: 57 | C16: 3.1. Su indeksu ir investiciniais vienetais susijęs draudimas, kai draudimo rizika yra reikšminga | D16: 23204565 | E16: 333149.32 | K16: 0 | N16: 883399.54 | O16: 0 | T16: 1230778 | U16: 0 | V16: 0 | Y16: 25651892
A17: =IFERROR(VLOOKUP(C17,'LT-EN'!$A:$B,2,FALSE)," ") -> 3.2. Index-linked and unit-linked insurance, when the insurance risk is insignificant | B17: 58 | C17: 3.2. Su indeksu ir investiciniais vienetais susijęs draudimas, kai draudimo rizika yra nereikšminga | E17: 869144.05 | K17: 3469337.8 | N17: 975525.42 | O17: 0 | T17: 979293 | U17: 0 | V17: 538899 | Y17: 6832199.3
A18: =IFERROR(VLOOKUP(C18,'LT-EN'!$A:$B,2,FALSE)," ") -> 4. Other life insurance | B18: 59 | C18: 4. Kitas gyvybės draudimas | D18: 0 | E18: 276514.44 | F18: 0 | G18: 0 | H18: 0 | I18: 0 | J18: 0 | K18: 206670.8 | L18: 0 | M18: 0 | N18: 0 | O18: 0 | P18: 0 | Q18: 0 | R18: 0 | S18: 0 | T18: 0 | U18: 0 | V18: 0 | W18: 0 | X18: 0 | Y18: 483185.24
A19: =IFERROR(VLOOKUP(C19,'LT-EN'!$A:$B,2,FALSE)," ") -> 4.1. Insurance in case of survival | B19: 60 | C19: 4.1. Draudimas išgyvenimo atveju | K19: 0 | O19: 0 | V19: 0 | Y19: 0
A20: =IFERROR(VLOOKUP(C20,'LT-EN'!$A:$B,2,FALSE)," ") -> 4.2. Annuities | B20: 61 | C20: 4.2. Anuitetai | K20: 206670.8 | O20: 0 | V20: 0 | Y20: 206670.8
A21: =IFERROR(VLOOKUP(C21,'LT-EN'!$A:$B,2,FALSE)," ") -> 4.3. Insurance in case of death | B21: 62 | C21: 4.3. Draudimas mirties atveju | D21: 0 | E21: 276514.44 | K21: 0 | N21: 0 | O21: 0 | T21: 0 | U21: 0 | V21: 0 | Y21: 276514.44
A22: =IFERROR(VLOOKUP(C22,'LT-EN'!$A:$B,2,FALSE)," ") -> 4.4. Other life insurance | B22: 63 | C22: 4.4. Kitas gyvybės draudimas | K22: 0 | O22: 0 | V22: 0 | Y22: 0
A23: =IFERROR(VLOOKUP(C23,'LT-EN'!$A:$B,2,FALSE)," ")
A24: =IFERROR(VLOOKUP(C24,'LT-EN'!$A:$B,2,FALSE)," ")
A25: =IFERROR(VLOOKUP(C25,'LT-EN'!$A:$B,2,FALSE)," ")
A26: =IFERROR(VLOOKUP(C26,'LT-EN'!$A:$B,2,FALSE)," ")
A27: =IFERROR(VLOOKUP(C27,'LT-EN'!$A:$B,2,FALSE)," ")
A28: =IFERROR(VLOOKUP(C28,'LT-EN'!$A:$B,2,FALSE)," ")
A29: =IFERROR(VLOOKUP(C29,'LT-EN'!$A:$B,2,FALSE)," ")
A30: =IFERROR(VLOOKUP(C30,'LT-EN'!$A:$B,2,FALSE)," ")
A31: =IFERROR(VLOOKUP(C31,'LT-EN'!$A:$B,2,FALSE)," ")
A32: =IFERROR(VLOOKUP(C32,'LT-EN'!$A:$B,2,FALSE)," ")
A33: =IFERROR(VLOOKUP(C33,'LT-EN'!$A:$B,2,FALSE)," ")
A34: =IFERROR(VLOOKUP(C34,'LT-EN'!$A:$B,2,FALSE)," ")
... A81: =IFERROR(VLOOKUP(C81,'LT-EN'!$A:$B,2,FALSE)," ")

Sheet DSR7
A1: Insurance premiums with periodical payments, EUR | C1: Periodinės draudimo įmokos, Eur
A3: ='DSR1'!C3 -> 2026-08-31
B5: Draudimo įmokos periodinės, Eur
A6: Business lines / Insurers | B6: eil.nr | C6: Draudimo grupės / Draudikai | D6: Allianz Lietuva gyvybės draudimas | E6: Artea Life Insurance | F6: ATRADIUS filialas | G6: Balcia Insurance filialas | H6: Baltijas Apdrosinasanas Nams filialas | I6: BTA Insurance Company filialas | J6: COFACE filialas | K6: Compensa Life VIG filialas | L6: Compensa VIG | M6: ERGO Insurance filialas | N6: ERGO Life Insurance | O6: Gjensidige | P6: If P&C Insurance (publ) filialas | Q6: If P&C Insurance filialas | R6: Lamantinas | S6: Lietuvos draudimas | T6: PZU Lietuva gyvybės draudimas | U6: SEB Life and Pension Baltic filialas | V6: Swedbank Life Insurance filialas | W6: Swedbank P&C Insurance filialas | X6: Vereinigte Hagelversicherung filialas VH Lietuva | Y6: All
A7: =IFERROR(VLOOKUP(C7,'LT-EN'!$A:$B,2,FALSE)," ") -> ALL | B7: 0 | C7: Visos | D7: 49105574 | E7: 22178898 | F7: 0 | G7: 0 | H7: 0 | I7: 0 | J7: 0 | K7: 57976759 | L7: 0 | M7: 0 | N7: 16950779 | O7: 0 | P7: 0 | Q7: 0 | R7: 0 | S7: 0 | T7: 19305136 | U7: 53708234 | V7: 57775941 | W7: 0 | X7: 0 | Y7: 2.7700132e+08
A8: =IFERROR(VLOOKUP(C8,'LT-EN'!$A:$B,2,FALSE)," ") -> LIFE ASSURANCE | B8: 49 | C8: GYVYBĖS DRAUDIMAS | D8: 49105574 | E8: 22178898 | F8: 0 | G8: 0 | H8: 0 | I8: 0 | J8: 0 | K8: 57976759 | L8: 0 | M8: 0 | N8: 16950779 | O8: 0 | P8: 0 | Q8: 0 | R8: 0 | S8: 0 | T8: 19305136 | U8: 53708234 | V8: 57775941 | W8: 0 | X8: 0 | Y8: 2.7700132e+08
A9: =IFERROR(VLOOKUP(C9,'LT-EN'!$A:$B,2,FALSE)," ") -> 1. Health insurance | B9: 50 | C9: 1. Sveikatos draudimas | K9: 301800.36 | N9: 2144745.1 | O9: 0 | T9: 0 | Y9: 2446545.5
A10: =IFERROR(VLOOKUP(C10,'LT-EN'!$A:$B,2,FALSE)," ") -> 2. Insurance with profit participation | B10: 51 | C10: 2. Draudimas su teise dalytis pelną | D10: 0 | E10: 764977.18 | F10: 0 | G10: 0 | H10: 0 | I10: 0 | J10: 0 | K10: 10455824 | L10: 0 | M10: 0 | N10: 2643548.2 | O10: 0 | P10: 0 | Q10: 0 | R10: 0 | S10: 0 | T10: 3174642 | U10: 30469.15 | V10: 222078 | W10: 0 | X10: 0 | Y10: 17291538
A11: =IFERROR(VLOOKUP(C11,'LT-EN'!$A:$B,2,FALSE)," ") -> 2.1. Insurance in case of survival | B11: 52 | C11: 2.1. Draudimas išgyvenimo atveju | E11: 656026.23 | K11: 10455824 | N11: 2203983.4 | O11: 0 | T11: 3174642 | U11: 30469.15 | V11: 221705 | Y11: 16742650
A12: =IFERROR(VLOOKUP(C12,'LT-EN'!$A:$B,2,FALSE)," ") -> 2.2. Annuities | B12: 53 | C12: 2.2. Anuitetai | E12: 108950.95 | K12: 0 | N12: 439564.81 | O12: 0 | Q12: 0 | U12: 0 | V12: 0 | Y12: 548515.76
A13: =IFERROR(VLOOKUP(C13,'LT-EN'!$A:$B,2,FALSE)," ") -> 2.3.Insurance in case of death | B13: 54 | C13: 2.3. Draudimas mirties atveju | K13: 0 | O13: 0 | V13: 0 | Y13: 0
A14: =IFERROR(VLOOKUP(C14,'LT-EN'!$A:$B,2,FALSE)," ") -> 2.4. Other insurance with profit participation | B14: 55 | C14: 2.4. Kitas draudimas, suteikiantis teisę gauti pelno dalį | K14: 0 | O14: 0 | V14: 373 | Y14: 373
A15: =IFERROR(VLOOKUP(C15,'LT-EN'!$A:$B,2,FALSE)," ") -> 3. Index-linked and unit-linked insurance | B15: 56 | C15: 3. Su indeksu ir investiciniais vienetais susijęs draudimas | D15: 47675518 | E15: 20522378 | F15: 0 | G15: 0 | H15: 0 | I15: 0 | J15: 0 | K15: 43774801 | L15: 0 | M15: 0 | N15: 10650782 | O15: 0 | P15: 0 | Q15: 0 | R15: 0 | S15: 0 | T15: 14706290 | U15: 43967610 | V15: 43290553 | W15: 0 | X15: 0 | Y15: 2.2458793e+08
A16: =IFERROR(VLOOKUP(C16,'LT-EN'!$A:$B,2,FALSE)," ") -> 3.1. Index-linked and unit-linked insurance, when the insurance risk is significant | B16: 57 | C16: 3.1. Su indeksu ir investiciniais vienetais susijęs draudimas, kai draudimo rizika yra reikšminga | D16: 47675518 | E16: 15514287 | K16: 0 | N16: 8257485 | O16: 0 | T16: 13375734 | U16: 10592885 | V16: 41564868 | Y16: 1.3698078e+08
A17: =IFERROR(VLOOKUP(C17,'LT-EN'!$A:$B,2,FALSE)," ") -> 3.2. Index-linked and unit-linked insurance, when the insurance risk is insignificant | B17: 58 | C17: 3.2. Su indeksu ir investiciniais vienetais susijęs draudimas, kai draudimo rizika yra nereikšminga | E17: 5008090.2 | K17: 43774801 | N17: 2393297 | O17: 0 | T17: 1330556 | U17: 33374725 | V17: 1725685 | Y17: 87607154
A18: =IFERROR(VLOOKUP(C18,'LT-EN'!$A:$B,2,FALSE)," ") -> 4. Other life insurance | B18: 59 | C18: 4. Kitas gyvybės draudimas | D18: 1430056 | E18: 891543.09 | F18: 0 | G18: 0 | H18: 0 | I18: 0 | J18: 0 | K18: 3444333.8 | L18: 0 | M18: 0 | N18: 1511703.2 | O18: 0 | P18: 0 | Q18: 0 | R18: 0 | S18: 0 | T18: 1424204 | U18: 9710155.6 | V18: 14263310 | W18: 0 | X18: 0 | Y18: 32675306
A19: =IFERROR(VLOOKUP(C19,'LT-EN'!$A:$B,2,FALSE)," ") -> 4.1. Insurance in case of survival | B19: 60 | C19: 4.1. Draudimas išgyvenimo atveju | K19: 0 | O19: 0 | V19: 0 | Y19: 0
A20: =IFERROR(VLOOKUP(C20,'LT-EN'!$A:$B,2,FALSE)," ") -> 4.2. Annuities | B20: 61 | C20: 4.2. Anuitetai | K20: 0 | O20: 0 | V20: 0 | Y20: 0
A21: =IFERROR(VLOOKUP(C21,'LT-EN'!$A:$B,2,FALSE)," ") -> 4.3. Insurance in case of death | B21: 62 | C21: 4.3. Draudimas mirties atveju | D21: 1430056 | E21: 891543.09 | K21: 3444333.8 | N21: 1511703.2 | O21: 0 | T21: 1424204 | U21: 9710155.6 | V21: 14263310 | Y21: 32675306
A22: =IFERROR(VLOOKUP(C22,'LT-EN'!$A:$B,2,FALSE)," ") -> 4.4. Other life insurance | B22: 63 | C22: 4.4. Kitas gyvybės draudimas | K22: 0 | O22: 0 | V22: 0 | Y22: 0
A23: =IFERROR(VLOOKUP(C23,'LT-EN'!$A:$B,2,FALSE)," ")
A24: =IFERROR(VLOOKUP(C24,'LT-EN'!$A:$B,2,FALSE)," ")
A25: =IFERROR(VLOOKUP(C25,'LT-EN'!$A:$B,2,FALSE)," ")
A26: =IFERROR(VLOOKUP(C26,'LT-EN'!$A:$B,2,FALSE)," ")
A27: =IFERROR(VLOOKUP(C27,'LT-EN'!$A:$B,2,FALSE)," ")
A28: =IFERROR(VLOOKUP(C28,'LT-EN'!$A:$B,2,FALSE)," ")
A29: =IFERROR(VLOOKUP(C29,'LT-EN'!$A:$B,2,FALSE)," ")
A30: =IFERROR(VLOOKUP(C30,'LT-EN'!$A:$B,2,FALSE)," ")
A31: =IFERROR(VLOOKUP(C31,'LT-EN'!$A:$B,2,FALSE)," ")
A32: =IFERROR(VLOOKUP(C32,'LT-EN'!$A:$B,2,FALSE)," ")
A33: =IFERROR(VLOOKUP(C33,'LT-EN'!$A:$B,2,FALSE)," ")
A34: =IFERROR(VLOOKUP(C34,'LT-EN'!$A:$B,2,FALSE)," ")
... A237: =IFERROR(VLOOKUP(C237,'LT-EN'!$A:$B,2,FALSE)," ")

Sheet DSR8
A1: Annual premiums under new concluded contracts with the established a periodical payment of premiums, EUR | C1: Periodinės metų įmokos pagal sudarytas naujas sutartis, Eur
A3: ='DSR1'!C3 -> 2026-08-31
B5: Periodinės metų įmokos pagal sudarytas naujas sutartis, Eur
A6: Business lines / Insurers | B6: eil.nr | C6: Draudimo grupės / Draudikai | D6: Allianz Lietuva gyvybės draudimas | E6: Artea Life Insurance | F6: ATRADIUS filialas | G6: Balcia Insurance filialas | H6: Baltijas Apdrosinasanas Nams filialas | I6: BTA Insurance Company filialas | J6: COFACE filialas | K6: Compensa Life VIG filialas | L6: Compensa VIG | M6: ERGO Insurance filialas | N6: ERGO Life Insurance | O6: Gjensidige | P6: If P&C Insurance (publ) filialas | Q6: If P&C Insurance filialas | R6: Lamantinas | S6: Lietuvos draudimas | T6: PZU Lietuva gyvybės draudimas | U6: SEB Life and Pension Baltic filialas | V6: Swedbank Life Insurance filialas | W6: Swedbank P&C Insurance filialas | X6: Vereinigte Hagelversicherung filialas VH Lietuva | Y6: All
A7: =IFERROR(VLOOKUP(C7,'LT-EN'!$A:$B,2,FALSE)," ") -> ALL | B7: 0 | C7: Visos | D7: 10546260 | E7: 2514036.6 | F7: 0 | G7: 0 | H7: 0 | I7: 0 | J7: 0 | K7: 5695729 | L7: 0 | M7: 0 | N7: 2853327.5 | O7: 0 | P7: 0 | Q7: 0 | R7: 0 | S7: 0 | T7: 2535743 | U7: 10302539 | V7: 4077460 | W7: 0 | X7: 0 | Y7: 38525095
A8: =IFERROR(VLOOKUP(C8,'LT-EN'!$A:$B,2,FALSE)," ") -> LIFE ASSURANCE | B8: 49 | C8: GYVYBĖS DRAUDIMAS | D8: 10546260 | E8: 2514036.6 | F8: 0 | G8: 0 | H8: 0 | I8: 0 | J8: 0 | K8: 5695729 | L8: 0 | M8: 0 | N8: 2853327.5 | O8: 0 | P8: 0 | Q8: 0 | R8: 0 | S8: 0 | T8: 2535743 | U8: 10302539 | V8: 4077460 | W8: 0 | X8: 0 | Y8: 38525095
A9: =IFERROR(VLOOKUP(C9,'LT-EN'!$A:$B,2,FALSE)," ") -> 1. Health insurance | B9: 50 | C9: 1. Sveikatos draudimas | K9: 83407.93 | N9: 1127551.4 | O9: 0 | Y9: 1210959.3
A10: =IFERROR(VLOOKUP(C10,'LT-EN'!$A:$B,2,FALSE)," ") -> 2. Insurance with profit participation | B10: 51 | C10: 2. Draudimas su teise dalytis pelną | D10: 0 | E10: 0 | F10: 0 | G10: 0 | H10: 0 | I10: 0 | J10: 0 | K10: 37052.22 | L10: 0 | M10: 0 | N10: 0 | O10: 0 | P10: 0 | Q10: 0 | R10: 0 | S10: 0 | T10: 0 | U10: 0 | V10: 0 | W10: 0 | X10: 0 | Y10: 37052.22
A11: =IFERROR(VLOOKUP(C11,'LT-EN'!$A:$B,2,FALSE)," ") -> 2.1. Insurance in case of survival | B11: 52 | C11: 2.1. Draudimas išgyvenimo atveju | E11: 0 | K11: 37052.22 | N11: 0 | O11: 0 | T11: 0 | V11: 0 | Y11: 37052.22
A12: =IFERROR(VLOOKUP(C12,'LT-EN'!$A:$B,2,FALSE)," ") -> 2.2. Annuities | B12: 53 | C12: 2.2. Anuitetai | E12: 0 | K12: 0 | N12: 0 | O12: 0 | Q12: 0 | V12: 0 | Y12: 0
A13: =IFERROR(VLOOKUP(C13,'LT-EN'!$A:$B,2,FALSE)," ") -> 2.3.Insurance in case of death | B13: 54 | C13: 2.3. Draudimas mirties atveju | K13: 0 | O13: 0 | V13: 0 | Y13: 0
A14: =IFERROR(VLOOKUP(C14,'LT-EN'!$A:$B,2,FALSE)," ") -> 2.4. Other insurance with profit participation | B14: 55 | C14: 2.4. Kitas draudimas, suteikiantis teisę gauti pelno dalį | K14: 0 | O14: 0 | V14: 0 | Y14: 0
A15: =IFERROR(VLOOKUP(C15,'LT-EN'!$A:$B,2,FALSE)," ") -> 3. Index-linked and unit-linked insurance | B15: 56 | C15: 3. Su indeksu ir investiciniais vienetais susijęs draudimas | D15: 9746057 | E15: 2153076 | F15: 0 | G15: 0 | H15: 0 | I15: 0 | J15: 0 | K15: 4029538 | L15: 0 | M15: 0 | N15: 1067396 | O15: 0 | P15: 0 | Q15: 0 | R15: 0 | S15: 0 | T15: 1894575 | U15: 9291344.8 | V15: 2031981 | W15: 0 | X15: 0 | Y15: 30213968
A16: =IFERROR(VLOOKUP(C16,'LT-EN'!$A:$B,2,FALSE)," ") -> 3.1. Index-linked and unit-linked insurance, when the insurance risk is significant | B16: 57 | C16: 3.1. Su indeksu ir investiciniais vienetais susijęs draudimas, kai draudimo rizika yra reikšminga | D16: 9746057 | E16: 1574796 | K16: 0 | N16: 698708 | O16: 0 | T16: 1780919 | U16: 0 | V16: 1864581 | Y16: 15665061
A17: =IFERROR(VLOOKUP(C17,'LT-EN'!$A:$B,2,FALSE)," ") -> 3.2. Index-linked and unit-linked insurance, when the insurance risk is insignificant | B17: 58 | C17: 3.2. Su indeksu ir investiciniais vienetais susijęs draudimas, kai draudimo rizika yra nereikšminga | E17: 578280 | K17: 4029538 | N17: 368688 | O17: 0 | T17: 113656 | U17: 9291344.8 | V17: 167400 | Y17: 14548907
